BEGIN:VCALENDAR
VERSION:2.0
PRODID:-//Sabre//Sabre VObject 4.5.8//EN
CALSCALE:GREGORIAN
NAME:EPUB\, quo vadis? ePublishing im W3C
X-WR-CALNAME:EPUB\, quo vadis? ePublishing im W3C
BEGIN:VTIMEZONE
TZID:Europe/Berlin
X-MICROSOFT-CDO-TZID:4
BEGIN:STANDARD
DTSTART:20161030T010000
TZOFFSETFROM:+0200
TZOFFSETTO:+0100
TZNAME:CET
END:STANDARD
BEGIN:STANDARD
DTSTART:20171029T010000
TZOFFSETFROM:+0200
TZOFFSETTO:+0100
TZNAME:CET
END:STANDARD
BEGIN:DAYLIGHT
DTSTART:20170326T010000
TZOFFSETFROM:+0100
TZOFFSETTO:+0200
TZNAME:CEST
END:DAYLIGHT
END:VTIMEZONE
BEGIN:VEVENT
UID:c20fde36-db4c-4885-980c-d9774bd6ca66
DTSTAMP:20221010T153635Z
SUMMARY:EPUB\, quo vadis? ePublishing im W3C
DTSTART;TZID=Europe/Berlin:20170614T113000
DTEND;TZID=Europe/Berlin:20170614T123000
DESCRIPTION:https://www.w3.org/events/talks/2017/epub-quo-vadis-epublishing
 -im-w3c/\n\n 
STATUS:CONFIRMED
CREATED:20170612T201700Z
LAST-MODIFIED:20221010T153635Z
END:VEVENT
END:VCALENDAR
