BEGIN:VCALENDAR
VERSION:2.0
PRODID:-//Sabre//Sabre VObject 4.5.8//EN
CALSCALE:GREGORIAN
NAME:Global Accessibility Awareness Day (GAAD)
X-WR-CALNAME:Global Accessibility Awareness Day (GAAD)
BEGIN:VTIMEZONE
TZID:UTC
X-MICROSOFT-CDO-TZID:0
BEGIN:STANDARD
DTSTART:20160523T090000
TZOFFSETFROM:+0000
TZOFFSETTO:+0000
TZNAME:UTC
END:STANDARD
END:VTIMEZONE
BEGIN:VEVENT
UID:493f47f3-a097-4033-a667-fee7b62444b9
DTSTAMP:20221010T152122Z
SUMMARY:Global Accessibility Awareness Day (GAAD)
DTSTART:20170518T090000Z
DTEND:20170518T120000Z
DESCRIPTION:https://www.w3.org/events/talks/2017/global-accessibility-aware
 ness-day-gaad/\n\nKeynote by Sir Tim Berners-Lee and other presentations
STATUS:CONFIRMED
CREATED:20170503T132300Z
LAST-MODIFIED:20221010T152122Z
END:VEVENT
END:VCALENDAR
