BEGIN:VCALENDAR
VERSION:2.0
PRODID:-//Sabre//Sabre VObject 4.5.8//EN
CALSCALE:GREGORIAN
NAME:Digital Publishing and more at W3C
X-WR-CALNAME:Digital Publishing and more at W3C
BEGIN:VTIMEZONE
TZID:Europe/London
X-MICROSOFT-CDO-TZID:1
BEGIN:STANDARD
DTSTART:20161030T010000
TZOFFSETFROM:+0100
TZOFFSETTO:+0000
TZNAME:GMT
END:STANDARD
BEGIN:STANDARD
DTSTART:20171029T010000
TZOFFSETFROM:+0100
TZOFFSETTO:+0000
TZNAME:GMT
END:STANDARD
BEGIN:DAYLIGHT
DTSTART:20170326T010000
TZOFFSETFROM:+0000
TZOFFSETTO:+0100
TZNAME:BST
END:DAYLIGHT
END:VTIMEZONE
BEGIN:VEVENT
UID:cc730470-f1ae-4bd6-8616-962c0809510b
DTSTAMP:20221010T151813Z
SUMMARY:Digital Publishing and more at W3C
DTSTART;TZID=Europe/London:20170517T140000
DTEND;TZID=Europe/London:20170517T170000
DESCRIPTION:https://www.w3.org/events/talks/2017/iptc-spring-meeting-2017/\
 n\n 
STATUS:CONFIRMED
CREATED:20170505T131500Z
LAST-MODIFIED:20221010T151813Z
END:VEVENT
END:VCALENDAR
