BEGIN:VCALENDAR
VERSION:2.0
PRODID:-//Sabre//Sabre VObject 4.5.8//EN
CALSCALE:GREGORIAN
NAME:La Web en el futuro de la industria
X-WR-CALNAME:La Web en el futuro de la industria
BEGIN:VTIMEZONE
TZID:UTC
X-MICROSOFT-CDO-TZID:0
BEGIN:STANDARD
DTSTART:20160618T133000
TZOFFSETFROM:+0000
TZOFFSETTO:+0000
TZNAME:UTC
END:STANDARD
END:VTIMEZONE
BEGIN:VEVENT
UID:e8f77192-ef34-4f19-806a-2deafa76dc73
DTSTAMP:20221010T153201Z
SUMMARY:La Web en el futuro de la industria
DTSTART:20170613T133000Z
DTEND:20170613T140000Z
DESCRIPTION:https://www.w3.org/events/talks/2017/la-web-en-el-futuro-de-la-
 industria/\n\nThis talk will go through the new activities within W3C tha
 t are being applied to different industry sectors
STATUS:CONFIRMED
CREATED:20170612T115700Z
LAST-MODIFIED:20221010T153201Z
END:VEVENT
END:VCALENDAR
