BEGIN:VCALENDAR
VERSION:2.0
PRODID:-//Sabre//Sabre VObject 4.5.8//EN
CALSCALE:GREGORIAN
NAME:La Web ha crecido... ¿ahora qué?
X-WR-CALNAME:La Web ha crecido... ¿ahora qué?
BEGIN:VTIMEZONE
TZID:UTC
X-MICROSOFT-CDO-TZID:0
BEGIN:STANDARD
DTSTART:20160517T163000
TZOFFSETFROM:+0000
TZOFFSETTO:+0000
TZNAME:UTC
END:STANDARD
END:VTIMEZONE
BEGIN:VEVENT
UID:204ba8bf-26b0-406a-a32e-31d227bce87f
DTSTAMP:20221011T080312Z
SUMMARY:La Web ha crecido... ¿ahora qué?
DTSTART:20170512T163000Z
DTEND:20170512T170000Z
DESCRIPTION:https://www.w3.org/events/talks/2017/la-web-ha-crecido-ahora-qu
 e/\n\nThis talk goes throw the activities within W3C that will affect user
  experience due to the change in the concept of interaction with [...]
STATUS:CONFIRMED
CREATED:20170612T114800Z
LAST-MODIFIED:20221011T080312Z
END:VEVENT
END:VCALENDAR
