BEGIN:VCALENDAR
VERSION:2.0
PRODID:-//Sabre//Sabre VObject 4.5.8//EN
CALSCALE:GREGORIAN
NAME:Managing Big Data with privacy in mind
X-WR-CALNAME:Managing Big Data with privacy in mind
BEGIN:VTIMEZONE
TZID:UTC
X-MICROSOFT-CDO-TZID:0
BEGIN:STANDARD
DTSTART:20160411T000000
TZOFFSETFROM:+0000
TZOFFSETTO:+0000
TZNAME:UTC
END:STANDARD
END:VTIMEZONE
BEGIN:VEVENT
UID:1102a308-ff33-41ad-98dd-ff5377d77099
DTSTAMP:20221010T150550Z
SUMMARY:Managing Big Data with privacy in mind
DTSTART:20170406T000000Z
DTEND:20170406T235959Z
DESCRIPTION:https://www.w3.org/events/talks/2017/managing-big-data-with-pri
 vacy-in-mind/\n\nA brief overview of the Big Data Europe and SPECIAL proje
 cts. At the WWW 2017 conference in Perth\, WA\, Australia
STATUS:CONFIRMED
CREATED:20170411T175300Z
LAST-MODIFIED:20221010T150550Z
END:VEVENT
END:VCALENDAR
