BEGIN:VCALENDAR
VERSION:2.0
PRODID:-//Sabre//Sabre VObject 4.5.8//EN
CALSCALE:GREGORIAN
NAME:Mobile Accessibility: Is mobile really different than desktop?
X-WR-CALNAME:Mobile Accessibility: Is mobile really different than desktop?
BEGIN:VTIMEZONE
TZID:America/Los_Angeles
X-MICROSOFT-CDO-TZID:13
BEGIN:DAYLIGHT
DTSTART:20160313T100000
TZOFFSETFROM:-0800
TZOFFSETTO:-0700
TZNAME:PDT
END:DAYLIGHT
BEGIN:DAYLIGHT
DTSTART:20170312T100000
TZOFFSETFROM:-0800
TZOFFSETTO:-0700
TZNAME:PDT
END:DAYLIGHT
BEGIN:STANDARD
DTSTART:20161106T090000
TZOFFSETFROM:-0700
TZOFFSETTO:-0800
TZNAME:PST
END:STANDARD
END:VTIMEZONE
BEGIN:VEVENT
UID:6541d576-480d-4bec-ba0a-92b2952519b3
DTSTAMP:20221010T145752Z
SUMMARY:Mobile Accessibility: Is mobile really different than desktop?
DTSTART;TZID=America/Los_Angeles:20170302T000000
DTEND;TZID=America/Los_Angeles:20170302T235959
DESCRIPTION:https://www.w3.org/events/talks/2017/mobile-accessibility-is-mo
 bile-really-different-than-desktop/\n\nMobile Accessibility: Is mobile rea
 lly different than desktop? presented by Shadi Abou-Zahra\, Kathy Wahlbin\
 , and Kim Patch in San Diego
STATUS:CONFIRMED
CREATED:20170306T025600Z
LAST-MODIFIED:20221010T145752Z
END:VEVENT
END:VCALENDAR
