BEGIN:VCALENDAR
VERSION:2.0
PRODID:-//Sabre//Sabre VObject 4.5.8//EN
CALSCALE:GREGORIAN
NAME:Programming: We're doing it wrong!
X-WR-CALNAME:Programming: We're doing it wrong!
BEGIN:VTIMEZONE
TZID:Europe/Amsterdam
BEGIN:DAYLIGHT
DTSTART:20160327T010000
TZOFFSETFROM:+0100
TZOFFSETTO:+0200
TZNAME:CEST
END:DAYLIGHT
BEGIN:DAYLIGHT
DTSTART:20170326T010000
TZOFFSETFROM:+0100
TZOFFSETTO:+0200
TZNAME:CEST
END:DAYLIGHT
BEGIN:STANDARD
DTSTART:20161030T010000
TZOFFSETFROM:+0200
TZOFFSETTO:+0100
TZNAME:CET
END:STANDARD
END:VTIMEZONE
BEGIN:VEVENT
UID:7a66a315-d529-4ae1-9220-f281dba2e8dc
DTSTAMP:20221010T143219Z
SUMMARY:Programming: We're doing it wrong!
DTSTART;TZID=Europe/Amsterdam:20170112T000000
DTEND;TZID=Europe/Amsterdam:20170112T235959
DESCRIPTION:https://www.w3.org/events/talks/2017/programming-were-doing-it-
 wrong/\n\n'Programming: We're doing it wrong!' presented by Steven Pembert
 on 2017-01-12 in Amsterdam\, The Netherlands at isoc.nl New Year's Event
STATUS:CONFIRMED
CREATED:20170306T020732Z
LAST-MODIFIED:20221010T143219Z
END:VEVENT
END:VCALENDAR
