BEGIN:VCALENDAR
VERSION:2.0
PRODID:-//Sabre//Sabre VObject 4.5.8//EN
CALSCALE:GREGORIAN
NAME:Publishing@W3C
X-WR-CALNAME:Publishing@W3C
BEGIN:VTIMEZONE
TZID:Europe/Brussels
BEGIN:DAYLIGHT
DTSTART:20160327T010000
TZOFFSETFROM:+0100
TZOFFSETTO:+0200
TZNAME:CEST
END:DAYLIGHT
BEGIN:DAYLIGHT
DTSTART:20170326T010000
TZOFFSETFROM:+0100
TZOFFSETTO:+0200
TZNAME:CEST
END:DAYLIGHT
BEGIN:STANDARD
DTSTART:20161030T010000
TZOFFSETFROM:+0200
TZOFFSETTO:+0100
TZNAME:CET
END:STANDARD
END:VTIMEZONE
BEGIN:VEVENT
UID:3ed8b7c9-9845-4c90-97e9-ae8293ab568b
DTSTAMP:20221010T150304Z
SUMMARY:Publishing@W3C
DTSTART;TZID=Europe/Brussels:20170309T105000
DTEND;TZID=Europe/Brussels:20170309T233500
DESCRIPTION:https://www.w3.org/events/talks/2017/publishingw3c/\n\npresente
 d by Ivan Herman 2017-03-09 in Brussels\, Belgium\, at the EPUB Summit 201
 7 conference
STATUS:CONFIRMED
CREATED:20170306T111900Z
LAST-MODIFIED:20221010T150304Z
END:VEVENT
END:VCALENDAR
