BEGIN:VCALENDAR
VERSION:2.0
PRODID:-//Sabre//Sabre VObject 4.5.8//EN
CALSCALE:GREGORIAN
NAME:Spatial Data on the Web
X-WR-CALNAME:Spatial Data on the Web
BEGIN:VTIMEZONE
TZID:UTC
X-MICROSOFT-CDO-TZID:0
BEGIN:STANDARD
DTSTART:20160605T000000
TZOFFSETFROM:+0000
TZOFFSETTO:+0000
TZNAME:UTC
END:STANDARD
END:VTIMEZONE
BEGIN:VEVENT
UID:01ebf843-abb5-4038-9e99-8766ddabe6ad
DTSTAMP:20221010T152411Z
SUMMARY:Spatial Data on the Web
DTSTART:20170531T000000Z
DTEND:20170531T235959Z
DESCRIPTION:https://www.w3.org/events/talks/2017/spatial-data-on-the-web/\n
 \nThe Spatial Data on the Web WG is a collaboration between the Open Geosp
 atial Consortium and W3C. Now nearing the end of its charter [...]
STATUS:CONFIRMED
CREATED:20170412T111900Z
LAST-MODIFIED:20221010T152411Z
END:VEVENT
END:VCALENDAR
