BEGIN:VCALENDAR
VERSION:2.0
PRODID:-//Sabre//Sabre VObject 4.5.8//EN
CALSCALE:GREGORIAN
NAME:Streamlining Web Payments
X-WR-CALNAME:Streamlining Web Payments
BEGIN:VTIMEZONE
TZID:UTC
X-MICROSOFT-CDO-TZID:0
BEGIN:STANDARD
DTSTART:20160501T000000
TZOFFSETFROM:+0000
TZOFFSETTO:+0000
TZNAME:UTC
END:STANDARD
END:VTIMEZONE
BEGIN:VEVENT
UID:3cca9d9d-82e4-4798-9466-8bbaa6064437
DTSTAMP:20221010T151024Z
SUMMARY:Streamlining Web Payments
DTSTART:20170426T000000Z
DTEND:20170427T235959Z
DESCRIPTION:https://www.w3.org/events/talks/2017/streamlining-web-payments/
 \n\nIan Jacobs will present new standards for streamlining checkout from t
 he W3C Web Payments WG\, as well as other payments-related activities
STATUS:CONFIRMED
CREATED:20170420T161100Z
LAST-MODIFIED:20221010T151024Z
END:VEVENT
END:VCALENDAR
