BEGIN:VCALENDAR
VERSION:2.0
PRODID:-//Sabre//Sabre VObject 4.5.8//EN
CALSCALE:GREGORIAN
NAME:The Web Platform: Use it\, build it
X-WR-CALNAME:The Web Platform: Use it\, build it
BEGIN:VTIMEZONE
TZID:UTC
X-MICROSOFT-CDO-TZID:0
BEGIN:STANDARD
DTSTART:20160306T160000
TZOFFSETFROM:+0000
TZOFFSETTO:+0000
TZNAME:UTC
END:STANDARD
END:VTIMEZONE
BEGIN:VEVENT
UID:88838a46-96e6-4c70-ac10-21b1eda6ee87
DTSTAMP:20221010T145309Z
SUMMARY:The Web Platform: Use it\, build it
DTSTART:20170301T160000Z
DTEND:20170301T190000Z
DESCRIPTION:https://www.w3.org/events/talks/2017/the-web-platform-use-it-bu
 ild-it/\n\nIn this talk in the Mobile Web Progress 2017 meetup\, Dominique
  Hazael-Massieux describes some of the recent evolutions of the Web Platfo
 rm
STATUS:CONFIRMED
CREATED:20170310T093600Z
LAST-MODIFIED:20221010T145309Z
END:VEVENT
END:VCALENDAR
