BEGIN:VCALENDAR
VERSION:2.0
PRODID:-//Sabre//Sabre VObject 4.5.8//EN
CALSCALE:GREGORIAN
NAME:WCAG 2.1 - A New Version of Accessibility Guidelines
X-WR-CALNAME:WCAG 2.1 - A New Version of Accessibility Guidelines
BEGIN:VTIMEZONE
TZID:UTC
X-MICROSOFT-CDO-TZID:0
BEGIN:STANDARD
DTSTART:20160308T000000
TZOFFSETFROM:+0000
TZOFFSETTO:+0000
TZNAME:UTC
END:STANDARD
END:VTIMEZONE
BEGIN:VEVENT
UID:b17a8139-c056-44b0-b1c3-6dcd0cc4ba37
DTSTAMP:20230221T180702Z
SUMMARY:WCAG 2.1 - A New Version of Accessibility Guidelines
DTSTART:20170303T000000Z
DTEND:20170303T235959Z
DESCRIPTION:https://www.w3.org/events/talks/2017/wcag-2-1-a-new-version-of-
 accessibility-guidelines/\n\nWCAG 2.1 - A New Version of Accessibility Gui
 delines presented by Michael Cooper and Judy Brewer 2017-03-03 in San Dieg
 o
STATUS:CONFIRMED
CREATED:20170306T025800Z
LAST-MODIFIED:20230221T180702Z
END:VEVENT
END:VCALENDAR
