BEGIN:VCALENDAR
VERSION:2.0
PRODID:-//Sabre//Sabre VObject 4.5.8//EN
CALSCALE:GREGORIAN
NAME:Web of Data\, the Future of the Internet
X-WR-CALNAME:Web of Data\, the Future of the Internet
BEGIN:VTIMEZONE
TZID:Europe/Stockholm
BEGIN:STANDARD
DTSTART:20161030T010000
TZOFFSETFROM:+0200
TZOFFSETTO:+0100
TZNAME:CET
END:STANDARD
BEGIN:STANDARD
DTSTART:20171029T010000
TZOFFSETFROM:+0200
TZOFFSETTO:+0100
TZNAME:CET
END:STANDARD
BEGIN:DAYLIGHT
DTSTART:20170326T010000
TZOFFSETFROM:+0100
TZOFFSETTO:+0200
TZNAME:CEST
END:DAYLIGHT
END:VTIMEZONE
BEGIN:VEVENT
UID:51c6913b-4cef-4a8e-8152-5137518f8120
DTSTAMP:20221010T152753Z
SUMMARY:Web of Data\, the Future of the Internet
DTSTART;TZID=Europe/Stockholm:20170613T083000
DTEND;TZID=Europe/Stockholm:20170613T100000
DESCRIPTION:https://www.w3.org/events/talks/2017/web-of-data-the-future-of-
 the-internet/\n\nWelcome to a breakfast at Findwise office in Göteborg! T
 his morning we have Phil Archer\, data strategist at W3C [...]
STATUS:CONFIRMED
CREATED:20170523T095100Z
LAST-MODIFIED:20221010T152753Z
END:VEVENT
END:VCALENDAR
