BEGIN:VCALENDAR
VERSION:2.0
PRODID:-//Sabre//Sabre VObject 4.5.8//EN
CALSCALE:GREGORIAN
NAME:WebRTC Standardization update
X-WR-CALNAME:WebRTC Standardization update
BEGIN:VTIMEZONE
TZID:UTC
X-MICROSOFT-CDO-TZID:0
BEGIN:STANDARD
DTSTART:20160305T060000
TZOFFSETFROM:+0000
TZOFFSETTO:+0000
TZNAME:UTC
END:STANDARD
END:VTIMEZONE
BEGIN:VEVENT
UID:10455cdd-102d-404b-8896-8d82b96a7278
DTSTAMP:20221010T161822Z
SUMMARY:WebRTC Standardization update
DTSTART:20170228T060000Z
DTEND:20170228T200000Z
DESCRIPTION:https://www.w3.org/events/talks/2017/webrtc-standardization-upd
 ate/\n\nDominique Hazael-Massieux introduces the latest status of the vari
 ous APIs under standardization in W3C for WebRTC
STATUS:CONFIRMED
CREATED:20170310T094000Z
LAST-MODIFIED:20221010T161822Z
END:VEVENT
END:VCALENDAR
