BEGIN:VCALENDAR
VERSION:2.0
PRODID:-//Sabre//Sabre VObject 4.5.8//EN
CALSCALE:GREGORIAN
NAME:WebVR Panel at VRX Europe conference
X-WR-CALNAME:WebVR Panel at VRX Europe conference
BEGIN:VTIMEZONE
TZID:UTC
X-MICROSOFT-CDO-TZID:0
BEGIN:STANDARD
DTSTART:20160516T000000
TZOFFSETFROM:+0000
TZOFFSETTO:+0000
TZNAME:UTC
END:STANDARD
END:VTIMEZONE
BEGIN:VEVENT
UID:e4854a8d-3ad0-4c33-ba30-10ed15c04857
DTSTAMP:20221010T151227Z
SUMMARY:WebVR Panel at VRX Europe conference
DTSTART:20170511T000000Z
DTEND:20170511T235959Z
DESCRIPTION:https://www.w3.org/events/talks/2017/webvr-panel-at-vrx-europe-
 conference/\n\nDuring the VRX Europe conference (May 11-12 in London)\, Do
 minique Hazael-Massieux chairs a panel on WebVR and its role in the adopti
 on of VR
STATUS:CONFIRMED
CREATED:20170315T114300Z
LAST-MODIFIED:20221010T151227Z
END:VEVENT
END:VCALENDAR
