BEGIN:VCALENDAR
VERSION:2.0
PRODID:-//Sabre//Sabre VObject 4.5.8//EN
CALSCALE:GREGORIAN
NAME:5G\, are we on the right track? - standardizing service infrastructure
  for 5G
X-WR-CALNAME:5G\, are we on the right track? - standardizing service infras
 tructure for 5G
BEGIN:VTIMEZONE
TZID:Europe/Paris
X-MICROSOFT-CDO-TZID:3
BEGIN:DAYLIGHT
DTSTART:20170326T010000
TZOFFSETFROM:+0100
TZOFFSETTO:+0200
TZNAME:CEST
END:DAYLIGHT
BEGIN:DAYLIGHT
DTSTART:20180325T010000
TZOFFSETFROM:+0100
TZOFFSETTO:+0200
TZNAME:CEST
END:DAYLIGHT
BEGIN:STANDARD
DTSTART:20171029T010000
TZOFFSETFROM:+0200
TZOFFSETTO:+0100
TZNAME:CET
END:STANDARD
END:VTIMEZONE
BEGIN:VEVENT
UID:fdf8510d-40ff-45c6-a39d-fd5c9bcaf9df
DTSTAMP:20221011T081030Z
SUMMARY:5G\, are we on the right track? - standardizing service infrastruct
 ure for 5G
DTSTART;TZID=Europe/Paris:20180222T090000
DTEND;TZID=Europe/Paris:20180222T103000
DESCRIPTION:https://www.w3.org/events/talks/2018/5g-are-we-on-the-right-tra
 ck-standardizing-service-infrastructure-for-5g/\n\n 
STATUS:CONFIRMED
CREATED:20180130T101500Z
LAST-MODIFIED:20221011T081030Z
END:VEVENT
END:VCALENDAR
