BEGIN:VCALENDAR
VERSION:2.0
PRODID:-//Sabre//Sabre VObject 4.5.8//EN
CALSCALE:GREGORIAN
NAME:Accessibility: Future-Proofing Your Web Content
X-WR-CALNAME:Accessibility: Future-Proofing Your Web Content
BEGIN:VTIMEZONE
TZID:America/New_York
X-MICROSOFT-CDO-TZID:10
BEGIN:STANDARD
DTSTART:20171105T060000
TZOFFSETFROM:-0400
TZOFFSETTO:-0500
TZNAME:EST
END:STANDARD
BEGIN:STANDARD
DTSTART:20181104T060000
TZOFFSETFROM:-0400
TZOFFSETTO:-0500
TZNAME:EST
END:STANDARD
BEGIN:DAYLIGHT
DTSTART:20180311T070000
TZOFFSETFROM:-0500
TZOFFSETTO:-0400
TZNAME:EDT
END:DAYLIGHT
END:VTIMEZONE
BEGIN:VEVENT
UID:99b7f41b-f78a-4c7b-b3a0-720d39cac83c
DTSTAMP:20221011T084819Z
SUMMARY:Accessibility: Future-Proofing Your Web Content
DTSTART;TZID=America/New_York:20180522T141000
DTEND;TZID=America/New_York:20180522T150000
DESCRIPTION:https://www.w3.org/events/talks/2018/accessibility-future-proof
 ing-your-web-content/\n\n 
STATUS:CONFIRMED
CREATED:20180226T152200Z
LAST-MODIFIED:20221011T084819Z
END:VEVENT
END:VCALENDAR
