BEGIN:VCALENDAR
VERSION:2.0
PRODID:-//Sabre//Sabre VObject 4.5.8//EN
CALSCALE:GREGORIAN
NAME:AI Enabled User Interfaces Digital Assistants
X-WR-CALNAME:AI Enabled User Interfaces Digital Assistants
BEGIN:VTIMEZONE
TZID:America/New_York
X-MICROSOFT-CDO-TZID:10
BEGIN:STANDARD
DTSTART:20171105T060000
TZOFFSETFROM:-0400
TZOFFSETTO:-0500
TZNAME:EST
END:STANDARD
BEGIN:STANDARD
DTSTART:20181104T060000
TZOFFSETFROM:-0400
TZOFFSETTO:-0500
TZNAME:EST
END:STANDARD
BEGIN:DAYLIGHT
DTSTART:20180311T070000
TZOFFSETFROM:-0500
TZOFFSETTO:-0400
TZNAME:EDT
END:DAYLIGHT
END:VTIMEZONE
BEGIN:VEVENT
UID:efce958d-029b-4a8b-aab7-3b62849e6a69
DTSTAMP:20221011T090459Z
SUMMARY:AI Enabled User Interfaces Digital Assistants
DTSTART;TZID=America/New_York:20180613T093000
DTEND;TZID=America/New_York:20180613T103000
DESCRIPTION:https://www.w3.org/events/talks/2018/ai-enabled-user-interfaces
 -digital-assistants/\n\n 
STATUS:CONFIRMED
CREATED:20180607T192400Z
LAST-MODIFIED:20221011T090459Z
END:VEVENT
END:VCALENDAR
