BEGIN:VCALENDAR
VERSION:2.0
PRODID:-//Sabre//Sabre VObject 4.5.8//EN
CALSCALE:GREGORIAN
NAME:Artificial Intelligence for Web Accessibility – Conformance Evaluati
 on as a Way Forward?
X-WR-CALNAME:Artificial Intelligence for Web Accessibility – Conformance 
 Evaluation as a Way Forward?
BEGIN:VTIMEZONE
TZID:Europe/Paris
X-MICROSOFT-CDO-TZID:3
BEGIN:STANDARD
DTSTART:20171029T010000
TZOFFSETFROM:+0200
TZOFFSETTO:+0100
TZNAME:CET
END:STANDARD
BEGIN:STANDARD
DTSTART:20181028T010000
TZOFFSETFROM:+0200
TZOFFSETTO:+0100
TZNAME:CET
END:STANDARD
BEGIN:DAYLIGHT
DTSTART:20180325T010000
TZOFFSETFROM:+0100
TZOFFSETTO:+0200
TZNAME:CEST
END:DAYLIGHT
END:VTIMEZONE
BEGIN:VEVENT
UID:fd2d2ca0-71e0-4858-88e9-0effad79790c
DTSTAMP:20221011T083701Z
SUMMARY:Artificial Intelligence for Web Accessibility – Conformance Evalu
 ation as a Way Forward?
DTSTART;TZID=Europe/Paris:20180424T120000
DTEND;TZID=Europe/Paris:20180424T123000
DESCRIPTION:https://www.w3.org/events/talks/2018/artificial-intelligence-fo
 r-web-accessibility-conformance-evaluation-as-a-way-forward/\n\n 
STATUS:CONFIRMED
CREATED:20180420T134200Z
LAST-MODIFIED:20221011T083701Z
END:VEVENT
END:VCALENDAR
