BEGIN:VCALENDAR
VERSION:2.0
PRODID:-//Sabre//Sabre VObject 4.5.8//EN
CALSCALE:GREGORIAN
NAME:BrailleNet celebrates 20 years of digital accessibility
X-WR-CALNAME:BrailleNet celebrates 20 years of digital accessibility
BEGIN:VTIMEZONE
TZID:Europe/Paris
X-MICROSOFT-CDO-TZID:3
BEGIN:STANDARD
DTSTART:20171029T010000
TZOFFSETFROM:+0200
TZOFFSETTO:+0100
TZNAME:CET
END:STANDARD
BEGIN:STANDARD
DTSTART:20181028T010000
TZOFFSETFROM:+0200
TZOFFSETTO:+0100
TZNAME:CET
END:STANDARD
BEGIN:DAYLIGHT
DTSTART:20180325T010000
TZOFFSETFROM:+0100
TZOFFSETTO:+0200
TZNAME:CEST
END:DAYLIGHT
END:VTIMEZONE
BEGIN:VEVENT
UID:f4f4e09a-1113-47ae-9937-470a245d3b80
DTSTAMP:20221011T090653Z
SUMMARY:BrailleNet celebrates 20 years of digital accessibility
DTSTART;TZID=Europe/Paris:20180614T150000
DTEND;TZID=Europe/Paris:20180614T200000
DESCRIPTION:https://www.w3.org/events/talks/2018/braillenet-celebrates-20-y
 ears-of-digital-accessibility/\n\n 
STATUS:CONFIRMED
CREATED:20180607T192700Z
LAST-MODIFIED:20221011T090653Z
END:VEVENT
END:VCALENDAR
