BEGIN:VCALENDAR
VERSION:2.0
PRODID:-//Sabre//Sabre VObject 4.5.8//EN
CALSCALE:GREGORIAN
NAME:Harmonized Accessibility Testing for WCAG
X-WR-CALNAME:Harmonized Accessibility Testing for WCAG
BEGIN:VTIMEZONE
TZID:America/Los_Angeles
X-MICROSOFT-CDO-TZID:13
BEGIN:STANDARD
DTSTART:20171105T090000
TZOFFSETFROM:-0700
TZOFFSETTO:-0800
TZNAME:PST
END:STANDARD
BEGIN:STANDARD
DTSTART:20181104T090000
TZOFFSETFROM:-0700
TZOFFSETTO:-0800
TZNAME:PST
END:STANDARD
BEGIN:DAYLIGHT
DTSTART:20180311T100000
TZOFFSETFROM:-0800
TZOFFSETTO:-0700
TZNAME:PDT
END:DAYLIGHT
END:VTIMEZONE
BEGIN:VEVENT
UID:a1a94fbc-9f9d-49b5-b85b-89be23699db1
DTSTAMP:20221011T081806Z
SUMMARY:Harmonized Accessibility Testing for WCAG
DTSTART;TZID=America/Los_Angeles:20180321T100000
DTEND;TZID=America/Los_Angeles:20180321T104000
DESCRIPTION:https://www.w3.org/events/talks/2018/harmonized-accessibility-t
 esting-for-wcag/\n\n 
STATUS:CONFIRMED
CREATED:20180219T144800Z
LAST-MODIFIED:20221011T081806Z
END:VEVENT
END:VCALENDAR
