BEGIN:VCALENDAR
VERSION:2.0
PRODID:-//Sabre//Sabre VObject 4.5.8//EN
CALSCALE:GREGORIAN
NAME:International developments toward accessibility standards coherence: L
 ets implement!
X-WR-CALNAME:International developments toward accessibility standards cohe
 rence: Lets implement!
BEGIN:VTIMEZONE
TZID:America/New_York
X-MICROSOFT-CDO-TZID:10
BEGIN:STANDARD
DTSTART:20171105T060000
TZOFFSETFROM:-0400
TZOFFSETTO:-0500
TZNAME:EST
END:STANDARD
BEGIN:STANDARD
DTSTART:20181104T060000
TZOFFSETFROM:-0400
TZOFFSETTO:-0500
TZNAME:EST
END:STANDARD
BEGIN:DAYLIGHT
DTSTART:20180311T070000
TZOFFSETFROM:-0500
TZOFFSETTO:-0400
TZNAME:EDT
END:DAYLIGHT
END:VTIMEZONE
BEGIN:VEVENT
UID:7d709900-736d-4f48-b448-0923c320f1d3
DTSTAMP:20221011T090319Z
SUMMARY:International developments toward accessibility standards coherence
 : Lets implement!
DTSTART;TZID=America/New_York:20180612T131500
DTEND;TZID=America/New_York:20180612T143000
DESCRIPTION:https://www.w3.org/events/talks/2018/international-developments
 -toward-accessibility-standards-coherence-lets-implement/\n\n 
STATUS:CONFIRMED
CREATED:20180607T192000Z
LAST-MODIFIED:20221011T090319Z
END:VEVENT
END:VCALENDAR
