BEGIN:VCALENDAR
VERSION:2.0
PRODID:-//Sabre//Sabre VObject 4.5.8//EN
CALSCALE:GREGORIAN
NAME:International Uptake of WCAG 2.0 and WCAG 2.1 Including in Europe and 
 China
X-WR-CALNAME:International Uptake of WCAG 2.0 and WCAG 2.1 Including in Eur
 ope and China
BEGIN:VTIMEZONE
TZID:America/Los_Angeles
X-MICROSOFT-CDO-TZID:13
BEGIN:STANDARD
DTSTART:20171105T090000
TZOFFSETFROM:-0700
TZOFFSETTO:-0800
TZNAME:PST
END:STANDARD
BEGIN:STANDARD
DTSTART:20181104T090000
TZOFFSETFROM:-0700
TZOFFSETTO:-0800
TZNAME:PST
END:STANDARD
BEGIN:DAYLIGHT
DTSTART:20180311T100000
TZOFFSETFROM:-0800
TZOFFSETTO:-0700
TZNAME:PDT
END:DAYLIGHT
END:VTIMEZONE
BEGIN:VEVENT
UID:9c3d7e7a-28da-4712-b9b4-25da79abcf68
DTSTAMP:20221011T082002Z
SUMMARY:International Uptake of WCAG 2.0 and WCAG 2.1 Including in Europe a
 nd China
DTSTART;TZID=America/Los_Angeles:20180321T142000
DTEND;TZID=America/Los_Angeles:20180321T150000
DESCRIPTION:https://www.w3.org/events/talks/2018/international-uptake-of-wc
 ag-2-0-and-wcag-2-1-including-in-europe-and-china/\n\n 
STATUS:CONFIRMED
CREATED:20180219T145500Z
LAST-MODIFIED:20221011T082002Z
END:VEVENT
END:VCALENDAR
