BEGIN:VCALENDAR
VERSION:2.0
PRODID:-//Sabre//Sabre VObject 4.5.8//EN
CALSCALE:GREGORIAN
NAME:Internet of Things (IoT) as Assistive Technology: Potential Applicatio
 ns in Tertiary Education
X-WR-CALNAME:Internet of Things (IoT) as Assistive Technology: Potential Ap
 plications in Tertiary Education
BEGIN:VTIMEZONE
TZID:Europe/Paris
X-MICROSOFT-CDO-TZID:3
BEGIN:STANDARD
DTSTART:20171029T010000
TZOFFSETFROM:+0200
TZOFFSETTO:+0100
TZNAME:CET
END:STANDARD
BEGIN:STANDARD
DTSTART:20181028T010000
TZOFFSETFROM:+0200
TZOFFSETTO:+0100
TZNAME:CET
END:STANDARD
BEGIN:DAYLIGHT
DTSTART:20180325T010000
TZOFFSETFROM:+0100
TZOFFSETTO:+0200
TZNAME:CEST
END:DAYLIGHT
END:VTIMEZONE
BEGIN:VEVENT
UID:f99a80a7-87be-408c-a091-1f5995985b0c
DTSTAMP:20221011T083426Z
SUMMARY:Internet of Things (IoT) as Assistive Technology: Potential Applica
 tions in Tertiary Education
DTSTART;TZID=Europe/Paris:20180423T100000
DTEND;TZID=Europe/Paris:20180423T103000
DESCRIPTION:https://www.w3.org/events/talks/2018/internet-of-things-iot-as-
 assistive-technology-potential-applications-in-tertiary-education/\n\n 
STATUS:CONFIRMED
CREATED:20180420T133900Z
LAST-MODIFIED:20221011T083426Z
END:VEVENT
END:VCALENDAR
