BEGIN:VCALENDAR
VERSION:2.0
PRODID:-//Sabre//Sabre VObject 4.5.8//EN
CALSCALE:GREGORIAN
NAME:Mobile Accessibility in WCAG 2.1 and Beyond
X-WR-CALNAME:Mobile Accessibility in WCAG 2.1 and Beyond
BEGIN:VTIMEZONE
TZID:America/Los_Angeles
X-MICROSOFT-CDO-TZID:13
BEGIN:STANDARD
DTSTART:20171105T090000
TZOFFSETFROM:-0700
TZOFFSETTO:-0800
TZNAME:PST
END:STANDARD
BEGIN:STANDARD
DTSTART:20181104T090000
TZOFFSETFROM:-0700
TZOFFSETTO:-0800
TZNAME:PST
END:STANDARD
BEGIN:DAYLIGHT
DTSTART:20180311T100000
TZOFFSETFROM:-0800
TZOFFSETTO:-0700
TZNAME:PDT
END:DAYLIGHT
END:VTIMEZONE
BEGIN:VEVENT
UID:226832e4-5044-49e0-ab64-f717a661afbb
DTSTAMP:20221011T082229Z
SUMMARY:Mobile Accessibility in WCAG 2.1 and Beyond
DTSTART;TZID=America/Los_Angeles:20180321T162000
DTEND;TZID=America/Los_Angeles:20180321T170000
DESCRIPTION:https://www.w3.org/events/talks/2018/mobile-accessibility-in-wc
 ag-2-1-and-beyond/\n\n 
STATUS:CONFIRMED
CREATED:20180219T145600Z
LAST-MODIFIED:20221011T082229Z
END:VEVENT
END:VCALENDAR
