BEGIN:VCALENDAR
VERSION:2.0
PRODID:-//Sabre//Sabre VObject 4.5.8//EN
CALSCALE:GREGORIAN
NAME:Publishing@W3C
X-WR-CALNAME:Publishing@W3C
BEGIN:VTIMEZONE
TZID:UTC
X-MICROSOFT-CDO-TZID:0
BEGIN:STANDARD
DTSTART:20171208T000000
TZOFFSETFROM:+0000
TZOFFSETTO:+0000
TZNAME:UTC
END:STANDARD
END:VTIMEZONE
BEGIN:VEVENT
UID:0e8ad82d-ce03-4b77-8007-23e2e39a2d5f
DTSTAMP:20221011T095241Z
SUMMARY:Publishing@W3C
DTSTART:20181203T000000Z
DTEND:20181203T235959Z
DESCRIPTION:https://www.w3.org/events/talks/2018/publishingw3c-3/\n\n 
STATUS:CONFIRMED
CREATED:20181115T103000Z
LAST-MODIFIED:20221011T095241Z
END:VEVENT
END:VCALENDAR
