BEGIN:VCALENDAR
VERSION:2.0
PRODID:-//Sabre//Sabre VObject 4.5.8//EN
CALSCALE:GREGORIAN
NAME:Publishing@W3C Talk
X-WR-CALNAME:Publishing@W3C Talk
BEGIN:VTIMEZONE
TZID:America/Toronto
BEGIN:STANDARD
DTSTART:20171105T060000
TZOFFSETFROM:-0400
TZOFFSETTO:-0500
TZNAME:EST
END:STANDARD
BEGIN:STANDARD
DTSTART:20181104T060000
TZOFFSETFROM:-0400
TZOFFSETTO:-0500
TZNAME:EST
END:STANDARD
BEGIN:DAYLIGHT
DTSTART:20180311T070000
TZOFFSETFROM:-0500
TZOFFSETTO:-0400
TZNAME:EDT
END:DAYLIGHT
END:VTIMEZONE
BEGIN:VEVENT
UID:14f8531f-0f43-47f2-8a18-603089f999dd
DTSTAMP:20221011T082433Z
SUMMARY:Publishing@W3C Talk
DTSTART;TZID=America/Toronto:20180322T080000
DTEND;TZID=America/Toronto:20180322T170000
DESCRIPTION:https://www.w3.org/events/talks/2018/publishingw3c-talk-at-eboo
 kcraft-toronto-22-march-2018/\n\nGreat Expectations – The Sequel: Update
 s from the digital standards frontlines
STATUS:CONFIRMED
CREATED:20180208T184400Z
LAST-MODIFIED:20221011T082433Z
END:VEVENT
END:VCALENDAR
