BEGIN:VCALENDAR
VERSION:2.0
PRODID:-//Sabre//Sabre VObject 4.5.8//EN
CALSCALE:GREGORIAN
NAME:TU Update
X-WR-CALNAME:TU Update
BEGIN:VTIMEZONE
TZID:UTC
X-MICROSOFT-CDO-TZID:0
BEGIN:STANDARD
DTSTART:20170611T000000
TZOFFSETFROM:+0000
TZOFFSETTO:+0000
TZNAME:UTC
END:STANDARD
END:VTIMEZONE
BEGIN:VEVENT
UID:cf24a05e-0e83-43a3-96bd-b8c4be4183d9
DTSTAMP:20221011T090106Z
SUMMARY:TU Update
DTSTART:20180606T000000Z
DTEND:20180607T235959Z
DESCRIPTION:https://www.w3.org/events/talks/2018/tu-update/\n\nW3C's Automo
 tive Lead\, Ted Guild\, will be participating on two panels at TU-Automoti
 ve in Novi\, Michigan on June 6th and 7th
STATUS:CONFIRMED
CREATED:20180605T215000Z
LAST-MODIFIED:20221011T090106Z
END:VEVENT
END:VCALENDAR
