BEGIN:VCALENDAR
VERSION:2.0
PRODID:-//Sabre//Sabre VObject 4.5.8//EN
CALSCALE:GREGORIAN
NAME:Upcoming WCAG 2.1 Standard and Adoption in Europe
X-WR-CALNAME:Upcoming WCAG 2.1 Standard and Adoption in Europe
BEGIN:VTIMEZONE
TZID:Europe/Riga
BEGIN:STANDARD
DTSTART:20171029T010000
TZOFFSETFROM:+0300
TZOFFSETTO:+0200
TZNAME:EET
END:STANDARD
BEGIN:STANDARD
DTSTART:20181028T010000
TZOFFSETFROM:+0300
TZOFFSETTO:+0200
TZNAME:EET
END:STANDARD
BEGIN:DAYLIGHT
DTSTART:20180325T010000
TZOFFSETFROM:+0200
TZOFFSETTO:+0300
TZNAME:EEST
END:DAYLIGHT
END:VTIMEZONE
BEGIN:VEVENT
UID:689d3598-5fe7-4baf-b8a2-ebf12d81a7a7
DTSTAMP:20221011T085128Z
SUMMARY:Upcoming WCAG 2.1 Standard and Adoption in Europe
DTSTART;TZID=Europe/Riga:20180526T100000
DTEND;TZID=Europe/Riga:20180526T110000
DESCRIPTION:https://www.w3.org/events/talks/2018/upcoming-wcag-2-1-standard
 -and-adoption-in-europe/\n\n 
STATUS:CONFIRMED
CREATED:20180420T134800Z
LAST-MODIFIED:20221011T085128Z
END:VEVENT
END:VCALENDAR
