BEGIN:VCALENDAR
VERSION:2.0
PRODID:-//Sabre//Sabre VObject 4.5.8//EN
CALSCALE:GREGORIAN
NAME:W3C Web Accessibility Standards
X-WR-CALNAME:W3C Web Accessibility Standards
BEGIN:VTIMEZONE
TZID:UTC
X-MICROSOFT-CDO-TZID:0
BEGIN:STANDARD
DTSTART:20170227T094000
TZOFFSETFROM:+0000
TZOFFSETTO:+0000
TZNAME:UTC
END:STANDARD
END:VTIMEZONE
BEGIN:VEVENT
UID:ff57c823-eb78-4072-901f-7f225e484ef3
DTSTAMP:20221011T081313Z
SUMMARY:W3C Web Accessibility Standards
DTSTART:20180222T094000Z
DTEND:20180222T121000Z
DESCRIPTION:https://www.w3.org/events/talks/2018/w3c-web-accessibility-stan
 dards/\n\n 
STATUS:CONFIRMED
CREATED:20180219T143200Z
LAST-MODIFIED:20221011T081313Z
END:VEVENT
END:VCALENDAR
