BEGIN:VCALENDAR
VERSION:2.0
PRODID:-//Sabre//Sabre VObject 4.5.8//EN
CALSCALE:GREGORIAN
NAME:W3C & Web of Things at FIWARE Summit
X-WR-CALNAME:W3C & Web of Things at FIWARE Summit
BEGIN:VTIMEZONE
TZID:UTC
X-MICROSOFT-CDO-TZID:0
BEGIN:STANDARD
DTSTART:20170513T000000
TZOFFSETFROM:+0000
TZOFFSETTO:+0000
TZNAME:UTC
END:STANDARD
END:VTIMEZONE
BEGIN:VEVENT
UID:e16d4e47-622b-4368-b101-5eb4bb0c0841
DTSTAMP:20221010T143231Z
SUMMARY:W3C & Web of Things at FIWARE Summit
DTSTART:20180508T000000Z
DTEND:20180509T235959Z
DESCRIPTION:https://www.w3.org/events/talks/2018/w3c-web-of-things-at-fiwar
 e-summit/\n\nDave Raggett\, activity lead for the Web of data\, and champi
 on for the Web of Things\, presents an introduction to the Web of Things
STATUS:CONFIRMED
CREATED:20180508T105455Z
LAST-MODIFIED:20221010T143231Z
END:VEVENT
END:VCALENDAR
