BEGIN:VCALENDAR
VERSION:2.0
PRODID:-//Sabre//Sabre VObject 4.5.8//EN
CALSCALE:GREGORIAN
NAME:W3C WebXR activities
X-WR-CALNAME:W3C WebXR activities
BEGIN:VTIMEZONE
TZID:Europe/Berlin
X-MICROSOFT-CDO-TZID:4
BEGIN:STANDARD
DTSTART:20171029T010000
TZOFFSETFROM:+0200
TZOFFSETTO:+0100
TZNAME:CET
END:STANDARD
BEGIN:STANDARD
DTSTART:20181028T010000
TZOFFSETFROM:+0200
TZOFFSETTO:+0100
TZNAME:CET
END:STANDARD
BEGIN:DAYLIGHT
DTSTART:20180325T010000
TZOFFSETFROM:+0100
TZOFFSETTO:+0200
TZNAME:CEST
END:DAYLIGHT
END:VTIMEZONE
BEGIN:VEVENT
UID:651c5007-6b05-48d2-bb07-417e7e0f7cd1
DTSTAMP:20221011T084306Z
SUMMARY:W3C WebXR activities
DTSTART;TZID=Europe/Berlin:20180515T163000
DTEND;TZID=Europe/Berlin:20180515T170000
DESCRIPTION:https://www.w3.org/events/talks/2018/w3c-webxr-activities/\n\n
   
STATUS:CONFIRMED
CREATED:20180329T131800Z
LAST-MODIFIED:20221011T084306Z
END:VEVENT
END:VCALENDAR
