BEGIN:VCALENDAR
VERSION:2.0
PRODID:-//Sabre//Sabre VObject 4.5.8//EN
CALSCALE:GREGORIAN
NAME:WCAG 2.1 Status and Next Steps
X-WR-CALNAME:WCAG 2.1 Status and Next Steps
BEGIN:VTIMEZONE
TZID:America/Los_Angeles
X-MICROSOFT-CDO-TZID:13
BEGIN:STANDARD
DTSTART:20171105T090000
TZOFFSETFROM:-0700
TZOFFSETTO:-0800
TZNAME:PST
END:STANDARD
BEGIN:STANDARD
DTSTART:20181104T090000
TZOFFSETFROM:-0700
TZOFFSETTO:-0800
TZNAME:PST
END:STANDARD
BEGIN:DAYLIGHT
DTSTART:20180311T100000
TZOFFSETFROM:-0800
TZOFFSETTO:-0700
TZNAME:PDT
END:DAYLIGHT
END:VTIMEZONE
BEGIN:VEVENT
UID:9d2ec2bd-ab6e-43ad-82b5-ebe2e25ba15c
DTSTAMP:20221011T082953Z
SUMMARY:WCAG 2.1 Status and Next Steps
DTSTART;TZID=America/Los_Angeles:20180322T080000
DTEND;TZID=America/Los_Angeles:20180322T090000
DESCRIPTION:https://www.w3.org/events/talks/2018/wcag-2-1-status-and-next-s
 teps/\n\nWCAG 2.1 approaches completion\; this session will present its fe
 atures and discuss further guidelines work plans
STATUS:CONFIRMED
CREATED:20180322T011600Z
LAST-MODIFIED:20221011T082953Z
END:VEVENT
END:VCALENDAR
