BEGIN:VCALENDAR
VERSION:2.0
PRODID:-//Sabre//Sabre VObject 4.5.8//EN
CALSCALE:GREGORIAN
NAME:Web Accessibility: Looking into the Future
X-WR-CALNAME:Web Accessibility: Looking into the Future
BEGIN:VTIMEZONE
TZID:UTC
X-MICROSOFT-CDO-TZID:0
BEGIN:STANDARD
DTSTART:20170423T100000
TZOFFSETFROM:+0000
TZOFFSETTO:+0000
TZNAME:UTC
END:STANDARD
END:VTIMEZONE
BEGIN:VEVENT
UID:e3d4c6b8-16c5-4abe-b757-8fc490383fb8
DTSTAMP:20221010T143229Z
SUMMARY:Web Accessibility: Looking into the Future
DTSTART:20180418T100000Z
DTEND:20180418T104000Z
DESCRIPTION:https://www.w3.org/events/talks/2018/web-accessibility-looking-
 into-the-future/\n\n
STATUS:CONFIRMED
CREATED:20180226T150425Z
LAST-MODIFIED:20221010T143229Z
END:VEVENT
END:VCALENDAR
