BEGIN:VCALENDAR
VERSION:2.0
PRODID:-//Sabre//Sabre VObject 4.5.8//EN
CALSCALE:GREGORIAN
NAME:Web et réalité augmentée et virtuelle: Réalité Virtuelle (VR\,AR\
 ,XR\,MR) @ Aix-Arles-Marseille-Toulon
X-WR-CALNAME:Web et réalité augmentée et virtuelle: Réalité Virtuelle 
 (VR\,AR\,XR\,MR) @ Aix-Arles-Marseille-Toulon
BEGIN:VTIMEZONE
TZID:UTC
X-MICROSOFT-CDO-TZID:0
BEGIN:STANDARD
DTSTART:20170610T190000
TZOFFSETFROM:+0000
TZOFFSETTO:+0000
TZNAME:UTC
END:STANDARD
END:VTIMEZONE
BEGIN:VEVENT
UID:39f3a639-14b1-4f98-b6f5-d84317b364a1
DTSTAMP:20221011T085757Z
SUMMARY:Web et réalité augmentée et virtuelle: Réalité Virtuelle (VR\,
 AR\,XR\,MR) @ Aix-Arles-Marseille-Toulon
DTSTART:20180605T190000Z
DTEND:20180605T200000Z
DESCRIPTION:https://www.w3.org/events/talks/2018/web-et-realite-augmentee-e
 t-virtuelle-realite-virtuelle-vrarxrmr-aix-arles-marseille-toulon/\n\n 
STATUS:CONFIRMED
CREATED:20180601T072000Z
LAST-MODIFIED:20221011T085757Z
END:VEVENT
END:VCALENDAR
