BEGIN:VCALENDAR
VERSION:2.0
PRODID:-//Sabre//Sabre VObject 4.5.8//EN
CALSCALE:GREGORIAN
NAME:Web5G: Aligning Evolutions of Network and Web Technologies
X-WR-CALNAME:Web5G: Aligning Evolutions of Network and Web Technologies
BEGIN:VTIMEZONE
TZID:UTC
X-MICROSOFT-CDO-TZID:0
BEGIN:STANDARD
DTSTART:20171120T140000
TZOFFSETFROM:+0000
TZOFFSETTO:+0000
TZNAME:UTC
END:STANDARD
END:VTIMEZONE
BEGIN:VEVENT
UID:dc37f63c-e250-4e3e-8d17-a287e88bfd93
DTSTAMP:20221011T095121Z
SUMMARY:Web5G: Aligning Evolutions of Network and Web Technologies
DTSTART:20181115T140000Z
DTEND:20181115T153000Z
DESCRIPTION:https://www.w3.org/events/talks/2018/web5g-aligning-evolutions-
 of-network-and-web-technologies/\n\n 
STATUS:CONFIRMED
CREATED:20181019T094300Z
LAST-MODIFIED:20221011T095121Z
END:VEVENT
END:VCALENDAR
