BEGIN:VCALENDAR
VERSION:2.0
PRODID:-//Sabre//Sabre VObject 4.5.8//EN
CALSCALE:GREGORIAN
NAME:WebFonts in 2018: Everything Changes
X-WR-CALNAME:WebFonts in 2018: Everything Changes
BEGIN:VTIMEZONE
TZID:Europe/Moscow
X-MICROSOFT-CDO-TZID:51
BEGIN:STANDARD
DTSTART:20170602T050000
TZOFFSETFROM:+0300
TZOFFSETTO:+0300
TZNAME:MSK
END:STANDARD
END:VTIMEZONE
BEGIN:VEVENT
UID:3ce082e4-f0a9-44b7-ac2d-9a4a0cb1d9b3
DTSTAMP:20221011T085505Z
SUMMARY:WebFonts in 2018: Everything Changes
DTSTART;TZID=Europe/Moscow:20180528T080000
DTEND;TZID=Europe/Moscow:20180528T170000
DESCRIPTION:https://www.w3.org/events/talks/2018/webfonts-in-2018-everythin
 g-changes/\n\n70% of websites use downloadable fonts now\, at least at a b
 asic level. But with CSS Fonts 4 support for OpenType Variable Fonts [...]
STATUS:CONFIRMED
CREATED:20180522T155100Z
LAST-MODIFIED:20221011T085505Z
END:VEVENT
END:VCALENDAR
