BEGIN:VCALENDAR
VERSION:2.0
PRODID:-//Sabre//Sabre VObject 4.5.8//EN
CALSCALE:GREGORIAN
NAME:Designing for Language Accessibility: Making usable technologies for n
 on-Left to Right Languages
X-WR-CALNAME:Designing for Language Accessibility: Making usable technologi
 es for non-Left to Right Languages
BEGIN:VTIMEZONE
TZID:UTC
X-MICROSOFT-CDO-TZID:0
BEGIN:STANDARD
DTSTART:20200615T123000
TZOFFSETFROM:+0000
TZOFFSETTO:+0000
TZNAME:UTC
END:STANDARD
END:VTIMEZONE
BEGIN:VEVENT
UID:c8c754d6-a111-40bd-9e5f-098124c3263d
DTSTAMP:20221011T182445Z
SUMMARY:Designing for Language Accessibility: Making usable technologies fo
 r non-Left to Right Languages
DTSTART:20210610T123000Z
DTEND:20210610T133000Z
DESCRIPTION:https://www.w3.org/events/talks/2021/designing-for-language-acc
 essibility-making-usable-technologies-for-non-left-to-right-languages/\n\n
  
STATUS:CONFIRMED
CREATED:20210602T101900Z
LAST-MODIFIED:20221011T182445Z
END:VEVENT
END:VCALENDAR
