BEGIN:VCALENDAR
VERSION:2.0
PRODID:-//Sabre//Sabre VObject 4.5.8//EN
CALSCALE:GREGORIAN
NAME:Disconnected? Digital Access and Participation for People with Disabil
 ities
X-WR-CALNAME:Disconnected? Digital Access and Participation for People with
  Disabilities
BEGIN:VTIMEZONE
TZID:Europe/Vienna
BEGIN:STANDARD
DTSTART:20201025T010000
TZOFFSETFROM:+0200
TZOFFSETTO:+0100
TZNAME:CET
END:STANDARD
BEGIN:STANDARD
DTSTART:20211031T010000
TZOFFSETFROM:+0200
TZOFFSETTO:+0100
TZNAME:CET
END:STANDARD
BEGIN:DAYLIGHT
DTSTART:20210328T010000
TZOFFSETFROM:+0100
TZOFFSETTO:+0200
TZNAME:CEST
END:DAYLIGHT
END:VTIMEZONE
BEGIN:VEVENT
UID:6654266e-f722-4bae-984a-1ba99bec762c
DTSTAMP:20221011T183906Z
SUMMARY:Disconnected? Digital Access and Participation for People with Disa
 bilities
DTSTART;TZID=Europe/Vienna:20210922T150000
DTEND;TZID=Europe/Vienna:20210922T180000
DESCRIPTION:https://www.w3.org/events/talks/2021/disconnected-digital-acces
 s-and-participation-for-people-with-disabilities/\n\n 
STATUS:CONFIRMED
CREATED:20210706T160600Z
LAST-MODIFIED:20221011T183906Z
END:VEVENT
END:VCALENDAR
