BEGIN:VCALENDAR
VERSION:2.0
PRODID:-//Sabre//Sabre VObject 4.5.8//EN
CALSCALE:GREGORIAN
NAME:Nothing About Us Without Us - Introduction to Accessible Design
X-WR-CALNAME:Nothing About Us Without Us - Introduction to Accessible Desig
 n
BEGIN:VTIMEZONE
TZID:UTC
X-MICROSOFT-CDO-TZID:0
BEGIN:STANDARD
DTSTART:20200612T160000
TZOFFSETFROM:+0000
TZOFFSETTO:+0000
TZNAME:UTC
END:STANDARD
END:VTIMEZONE
BEGIN:VEVENT
UID:2a1d2b8f-86db-4fa7-86de-3720dcd8067f
DTSTAMP:20221011T182236Z
SUMMARY:Nothing About Us Without Us - Introduction to Accessible Design
DTSTART:20210607T160000Z
DTEND:20210607T170000Z
DESCRIPTION:https://www.w3.org/events/talks/2021/nothing-about-us-without-u
 s-introduction-to-accessible-design/\n\n 
STATUS:CONFIRMED
CREATED:20210602T101900Z
LAST-MODIFIED:20221011T182236Z
END:VEVENT
END:VCALENDAR
