BEGIN:VCALENDAR
VERSION:2.0
PRODID:-//Sabre//Sabre VObject 4.5.8//EN
CALSCALE:GREGORIAN
NAME:Web Accessibility 101 – Enhancing User Experiences of Open Source To
 ols for People with Disabilities
X-WR-CALNAME:Web Accessibility 101 – Enhancing User Experiences of Open S
 ource Tools for People with Disabilities
BEGIN:VTIMEZONE
TZID:UTC
X-MICROSOFT-CDO-TZID:0
BEGIN:STANDARD
DTSTART:20200614T130000
TZOFFSETFROM:+0000
TZOFFSETTO:+0000
TZNAME:UTC
END:STANDARD
END:VTIMEZONE
BEGIN:VEVENT
UID:546c7080-ddc0-4180-896d-5f2d33996cda
DTSTAMP:20221011T182329Z
SUMMARY:Web Accessibility 101 – Enhancing User Experiences of Open Source
  Tools for People with Disabilities
DTSTART:20210609T130000Z
DTEND:20210609T140000Z
DESCRIPTION:https://www.w3.org/events/talks/2021/web-accessibility-101-enha
 ncing-user-experiences-of-open-source-tools-for-people-with-disabilities/\
 n\n 
STATUS:CONFIRMED
CREATED:20210602T101900Z
LAST-MODIFIED:20221011T182329Z
END:VEVENT
END:VCALENDAR
