BEGIN:VCALENDAR
VERSION:2.0
PRODID:-//Sabre//Sabre VObject 4.5.8//EN
CALSCALE:GREGORIAN
NAME:W3C at Media Web Symposium
X-WR-CALNAME:W3C at Media Web Symposium
BEGIN:VTIMEZONE
TZID:Europe/Berlin
X-MICROSOFT-CDO-TZID:4
BEGIN:STANDARD
DTSTART:20211031T010000
TZOFFSETFROM:+0200
TZOFFSETTO:+0100
TZNAME:CET
END:STANDARD
BEGIN:STANDARD
DTSTART:20221030T010000
TZOFFSETFROM:+0200
TZOFFSETTO:+0100
TZNAME:CET
END:STANDARD
BEGIN:DAYLIGHT
DTSTART:20220327T010000
TZOFFSETFROM:+0100
TZOFFSETTO:+0200
TZNAME:CEST
END:DAYLIGHT
END:VTIMEZONE
BEGIN:VEVENT
UID:57c2735f-a323-4ebf-9573-a17a7f4b98ca
DTSTAMP:20221012T072420Z
SUMMARY:W3C at Media Web Symposium
DTSTART;TZID=Europe/Berlin:20220621T090000
DTEND;TZID=Europe/Berlin:20220621T170000
DESCRIPTION:https://www.w3.org/events/talks/2022/w3c-at-media-web-symposium
 /\n\nW3C Staff Francois Daoust and Dominique Hazael-Massieux will be prese
 nting at the Fraunhofer Fokus Media Web Symposium in Berlin next week
STATUS:CONFIRMED
CREATED:20220614T100900Z
LAST-MODIFIED:20221012T072420Z
END:VEVENT
END:VCALENDAR
