BEGIN:VCALENDAR
VERSION:2.0
PRODID:-//Sabre//Sabre VObject 4.5.8//EN
CALSCALE:GREGORIAN
NAME:Threat Modeling for Age Verification Systems with W3C Verifiable Crede
 ntials
X-WR-CALNAME:Threat Modeling for Age Verification Systems with W3C Verifiab
 le Credentials
BEGIN:VTIMEZONE
TZID:Europe/Madrid
BEGIN:DAYLIGHT
DTSTART:20240331T010000
TZOFFSETFROM:+0100
TZOFFSETTO:+0200
TZNAME:CEST
END:DAYLIGHT
BEGIN:DAYLIGHT
DTSTART:20250330T010000
TZOFFSETFROM:+0100
TZOFFSETTO:+0200
TZNAME:CEST
END:DAYLIGHT
BEGIN:STANDARD
DTSTART:20241027T010000
TZOFFSETFROM:+0200
TZOFFSETTO:+0100
TZNAME:CET
END:STANDARD
END:VTIMEZONE
BEGIN:VEVENT
UID:c2a0715e-91da-4ab6-84ce-adaaf4d57ca1
DTSTAMP:20250702T151045Z
SUMMARY:Threat Modeling for Age Verification Systems with W3C Verifiable Cr
 edentials
DTSTART;TZID=Europe/Madrid:20241128T180000
DTEND;TZID=Europe/Madrid:20241128T203000
DESCRIPTION:https://www.w3.org/events/talks/2024/threat-modeling-for-age-ve
 rification-systems-with-w3c-verifiable-credentials/\n\nA talk based on the
  latest standards in digital identity\, security\, and privacy
STATUS:CONFIRMED
CREATED:20241105T183100Z
LAST-MODIFIED:20250702T151045Z
END:VEVENT
END:VCALENDAR
