BEGIN:VCALENDAR
VERSION:2.0
PRODID:-//Sabre//Sabre VObject 4.5.8//EN
CALSCALE:GREGORIAN
NAME:The agentic web\, new and old technologies for an artificial/intellige
 nt future
X-WR-CALNAME:The agentic web\, new and old technologies for an artificial/i
 ntelligent future
BEGIN:VTIMEZONE
TZID:Africa/Algiers
BEGIN:STANDARD
DTSTART:20240629T153000
TZOFFSETFROM:+0100
TZOFFSETTO:+0100
TZNAME:CET
END:STANDARD
END:VTIMEZONE
BEGIN:VEVENT
UID:68400a9b-cc42-47c7-9f35-11a2574fea63
DTSTAMP:20250625T130334Z
SUMMARY:The agentic web\, new and old technologies for an artificial/intell
 igent future
DTSTART;TZID=Africa/Algiers:20250624T163000
DTEND;TZID=Africa/Algiers:20250624T180000
DESCRIPTION:https://www.w3.org/events/talks/2025/the-agentic-web-new-and-ol
 d-technologies-for-an-artificial-intelligent-future/\n\nAn exploration of 
 the possible impact of AI technologies in web media scenarios.
STATUS:CONFIRMED
CREATED:20250604T170000Z
LAST-MODIFIED:20250625T130334Z
END:VEVENT
END:VCALENDAR
