BEGIN:VCALENDAR
VERSION:2.0
PRODID:-//Sabre//Sabre VObject 4.5.8//EN
CALSCALE:GREGORIAN
NAME:TPAC 2001
X-WR-CALNAME:TPAC 2001
BEGIN:VTIMEZONE
TZID:UTC
X-MICROSOFT-CDO-TZID:0
BEGIN:STANDARD
DTSTART:20000303T000000
TZOFFSETFROM:+0000
TZOFFSETTO:+0000
TZNAME:UTC
END:STANDARD
END:VTIMEZONE
BEGIN:VEVENT
UID:c1ebe33d-0fdd-44c3-9bdb-da87412baa8c
DTSTAMP:20221014T114609Z
SUMMARY:TPAC 2001
DTSTART:20010226T000000Z
DTEND:20010302T235959Z
DESCRIPTION:https://www.w3.org/events/tpac/2001/tpac-2001/\n\n
STATUS:CONFIRMED
CREATED:20221014T114600Z
LAST-MODIFIED:20221014T114609Z
END:VEVENT
END:VCALENDAR
