BEGIN:VCALENDAR
VERSION:2.0
PRODID:-//Sabre//Sabre VObject 4.5.8//EN
CALSCALE:GREGORIAN
NAME:WebEvolve：2026年 W3C Open Day& 国際Web標準フォーラム
X-WR-CALNAME:WebEvolve：2026年 W3C Open Day& 国際Web標準フォーラ
 ム
BEGIN:VTIMEZONE
TZID:Asia/Shanghai
X-MICROSOFT-CDO-TZID:45
BEGIN:STANDARD
DTSTART:20250427T060000
TZOFFSETFROM:+0800
TZOFFSETTO:+0800
TZNAME:CST
END:STANDARD
END:VTIMEZONE
BEGIN:VEVENT
UID:14f7329b-fe2c-4db1-b041-c0ad706e34db
DTSTAMP:20260417T174105Z
SUMMARY:WebEvolve：2026年 W3C Open Day& 国際Web標準フォーラム
DTSTART;TZID=Asia/Shanghai:20260422T140000
DTEND;TZID=Asia/Shanghai:20260422T173000
DESCRIPTION:https://www.w3.org/ja/events/happenings/2026/webevolve-w3c-open
 -day-web-standards-forum/\n\nWebとAI：台頭するインテント指向
 パラダイムにおけるWebの未来
STATUS:CONFIRMED
CREATED:20260402T144300Z
LAST-MODIFIED:20260417T174105Z
END:VEVENT
END:VCALENDAR
