BEGIN:VCALENDAR
VERSION:2.0
PRODID:-//Sabre//Sabre VObject 4.5.8//EN
CALSCALE:GREGORIAN
NAME:AC Cambridge 1994
X-WR-CALNAME:AC Cambridge 1994
BEGIN:VTIMEZONE
TZID:UTC
X-MICROSOFT-CDO-TZID:0
BEGIN:STANDARD
DTSTART:19931219T000000
TZOFFSETFROM:+0000
TZOFFSETTO:+0000
TZNAME:UTC
END:STANDARD
END:VTIMEZONE
BEGIN:VEVENT
UID:c63ba41b-bf48-4f92-8c6b-66f80e94c9ef
DTSTAMP:20221014T114607Z
SUMMARY:AC Cambridge 1994
DTSTART:19941214T000000Z
DTEND:19941214T235959Z
DESCRIPTION:https://www.w3.org/events/ac/1994/ac-cambridge-1994/\n\n
STATUS:CONFIRMED
CREATED:20221014T114600Z
LAST-MODIFIED:20221014T114607Z
END:VEVENT
END:VCALENDAR
