BEGIN:VCALENDAR
VERSION:2.0
PRODID:-//Sabre//Sabre VObject 4.5.8//EN
CALSCALE:GREGORIAN
NAME:AC San Francisco 1995
X-WR-CALNAME:AC San Francisco 1995
BEGIN:VTIMEZONE
TZID:UTC
X-MICROSOFT-CDO-TZID:0
BEGIN:STANDARD
DTSTART:19940527T000000
TZOFFSETFROM:+0000
TZOFFSETTO:+0000
TZNAME:UTC
END:STANDARD
END:VTIMEZONE
BEGIN:VEVENT
UID:5a9b026b-4de8-4178-9f90-95e425268533
DTSTAMP:20221014T114607Z
SUMMARY:AC San Francisco 1995
DTSTART:19950522T000000Z
DTEND:19950522T235959Z
DESCRIPTION:https://www.w3.org/events/ac/1995/ac-san-francisco-1995/\n\n
STATUS:CONFIRMED
CREATED:20221014T114600Z
LAST-MODIFIED:20221014T114607Z
END:VEVENT
END:VCALENDAR
