BEGIN:VCALENDAR
VERSION:2.0
PRODID:-//Sabre//Sabre VObject 4.5.8//EN
CALSCALE:GREGORIAN
NAME:AC Paris 1996
X-WR-CALNAME:AC Paris 1996
BEGIN:VTIMEZONE
TZID:UTC
X-MICROSOFT-CDO-TZID:0
BEGIN:STANDARD
DTSTART:19950116T000000
TZOFFSETFROM:+0000
TZOFFSETTO:+0000
TZNAME:UTC
END:STANDARD
END:VTIMEZONE
BEGIN:VEVENT
UID:e95931a3-8ce1-4001-bc2a-ddeba1bc2031
DTSTAMP:20221014T114607Z
SUMMARY:AC Paris 1996
DTSTART:19960111T000000Z
DTEND:19960112T235959Z
DESCRIPTION:https://www.w3.org/events/ac/1996/ac-paris-1996/\n\n
STATUS:CONFIRMED
CREATED:20221014T114600Z
LAST-MODIFIED:20221014T114607Z
END:VEVENT
END:VCALENDAR
